BEGIN:VCALENDAR
VERSION:2.0
PRODID:-//La MICRO WINERIE - ECPv6.8.2.1//NONSGML v1.0//EN
CALSCALE:GREGORIAN
METHOD:PUBLISH
X-ORIGINAL-URL:https://www.microwinerie.fr
X-WR-CALDESC:Évènements pour La MICRO WINERIE
REFRESH-INTERVAL;VALUE=DURATION:PT1H
X-Robots-Tag:noindex
X-PUBLISHED-TTL:PT1H
BEGIN:VTIMEZONE
TZID:Europe/Paris
BEGIN:DAYLIGHT
TZOFFSETFROM:+0100
TZOFFSETTO:+0200
TZNAME:CEST
DTSTART:20250330T010000
END:DAYLIGHT
BEGIN:STANDARD
TZOFFSETFROM:+0200
TZOFFSETTO:+0100
TZNAME:CET
DTSTART:20251026T010000
END:STANDARD
END:VTIMEZONE
BEGIN:VEVENT
DTSTART;TZID=Europe/Paris:20250210T080000
DTEND;TZID=Europe/Paris:20250212T180000
DTSTAMP:20260424T022518
CREATED:20241203T103626Z
LAST-MODIFIED:20241203T103626Z
UID:1933-1739174400-1739383200@www.microwinerie.fr
SUMMARY:Wine Paris
DESCRIPTION:Wine Paris est l’événement incontournable où l’excellence et l’innovation s’unissent pour redéfinir les standards du vin. \nDécouvrez les Vins Bio et Atypiques de notre Chai Urbain : la Micro Winerie \nProfessionnels du vin\, rejoignez-nous et plongez dans l’univers de la Micro Winerie : \n\nUn chai urbain unique\, au cœur de Bordeaux\, où tradition et innovation se rencontrent.\nDes cuvées bio et atypiques\, issues de micro-vinifications qui révèlent l’authenticité des cépages.\nUne démarche écoresponsable\, mêlant respect du terroir et proximité urbaine.\n\nVenez déguster\, échanger et découvrir une nouvelle façon de penser le vin. \nLa Micro Winerie – L’excellence du chai urbain\, un nouveau bordeaux
URL:https://www.microwinerie.fr/event/wine-paris/
LOCATION:Parc des expositions de Paris\, 1 Pl. de la Porte de Versailles\, Paris\, 75015\, France
ATTACH;FMTTYPE=image/png:https://www.microwinerie.fr/wp-content/uploads/2024/12/wine-paris-2025.png
END:VEVENT
END:VCALENDAR