BEGIN:VCALENDAR
VERSION:2.0
PRODID:-//La MICRO WINERIE - ECPv6.8.2.1//NONSGML v1.0//EN
CALSCALE:GREGORIAN
METHOD:PUBLISH
X-WR-CALNAME:La MICRO WINERIE
X-ORIGINAL-URL:https://www.microwinerie.fr
X-WR-CALDESC:Évènements pour La MICRO WINERIE
REFRESH-INTERVAL;VALUE=DURATION:PT1H
X-Robots-Tag:noindex
X-PUBLISHED-TTL:PT1H
BEGIN:VTIMEZONE
TZID:Europe/Paris
BEGIN:DAYLIGHT
TZOFFSETFROM:+0100
TZOFFSETTO:+0200
TZNAME:CEST
DTSTART:20250330T010000
END:DAYLIGHT
BEGIN:STANDARD
TZOFFSETFROM:+0200
TZOFFSETTO:+0100
TZNAME:CET
DTSTART:20251026T010000
END:STANDARD
END:VTIMEZONE
BEGIN:VEVENT
DTSTART;TZID=Europe/Paris:20250209T100000
DTEND;TZID=Europe/Paris:20250209T180000
DTSTAMP:20260424T021341
CREATED:20250102T140954Z
LAST-MODIFIED:20250102T140954Z
UID:1967-1739095200-1739124000@www.microwinerie.fr
SUMMARY:BIOTOP Paris
DESCRIPTION:Partagez un moment d’exception avec +70 femmes et hommes au Top de La Bio\, Biodynamie et Méthode Nature\, dans une ancienne quincaillerie du XIXème au charme fou\, en plein cœur de Paris. \nVenez me retrouver dans d’excellentes conditions de dégustation et découvrir les vins de la Micro Winerie \nBIOTOP\, une sélection et une organisation qui ont fait leurs preuves ! \n-> pas de perte de temps grâce au plan et à la liste des participant·es que nous vous remettrons à l’accueil\n-> La Pause Gourmande : notre espace restauration ouvert de 10 à 17h a avec notre traiteur Petit Comité\n-> Atelier de dégustation sensible et géo sensorielle avec Justine Ollivier de Franck Thomas Formation\n-> Mini conférence 100% biodynamie avec Willy Kiezer de Ni Bu Ni Connu et auteur du Guide 100% biodynamie\n-> Soirée Vigneronne sur une péniche avec un accordéoniste qui nous fera chanter de vieilles chansons françaises à partir de 19 h 30 \nNous vous donnons rendez-vous\, \n-> Dimanche 9 février \n-> 10 à à 18 heures \n-> Design Paris Center – 74 boulevard Richard Lenoir – 11 ème arrondissement \n-> Bus – Saint Ambroise (56) \n->Velib – 86 boulevard Richard Lenoir \n-> Métro- Richard Lenoir (ligne 5) – Saint Amboise (ligne 9) \n-> 10 à 15 minutes à pied de la place des Voges\, de la Bastille\, République et Belleville \nNotre équipe vous accueillera avec sourire et professionnalisme.
URL:https://www.microwinerie.fr/event/biotop-paris/
LOCATION:Design center Paris\, 74 Bd Richard-Lenoir\, Paris\, 75011\, France
CATEGORIES:Salon
ATTACH;FMTTYPE=image/jpeg:https://www.microwinerie.fr/wp-content/uploads/2025/01/YURPLAN-380x5453-1-e1735826877714.jpg
END:VEVENT
END:VCALENDAR