BEGIN:VCALENDAR
VERSION:2.0
PRODID:-//La MICRO WINERIE - ECPv6.8.2.1//NONSGML v1.0//EN
CALSCALE:GREGORIAN
METHOD:PUBLISH
X-WR-CALNAME:La MICRO WINERIE
X-ORIGINAL-URL:https://www.microwinerie.fr
X-WR-CALDESC:Évènements pour La MICRO WINERIE
REFRESH-INTERVAL;VALUE=DURATION:PT1H
X-Robots-Tag:noindex
X-PUBLISHED-TTL:PT1H
BEGIN:VTIMEZONE
TZID:Europe/Paris
BEGIN:DAYLIGHT
TZOFFSETFROM:+0100
TZOFFSETTO:+0200
TZNAME:CEST
DTSTART:20250330T010000
END:DAYLIGHT
BEGIN:STANDARD
TZOFFSETFROM:+0200
TZOFFSETTO:+0100
TZNAME:CET
DTSTART:20251026T010000
END:STANDARD
END:VTIMEZONE
BEGIN:VEVENT
DTSTART;TZID=Europe/Paris:20250203T080000
DTEND;TZID=Europe/Paris:20250204T170000
DTSTAMP:20260424T021227
CREATED:20241203T104245Z
LAST-MODIFIED:20241203T104245Z
UID:1939-1738569600-1738688400@www.microwinerie.fr
SUMMARY:La levée de la Loire
DESCRIPTION:Le Salon des Vins Bio et Biodynamiques de la Loire \nLa Levée de la Loire est un événement incontournable dédié aux vins bio\, biodynamiques et naturels. Ce salon rassemble chaque année des vignerons engagés dans une démarche respectueuse de l’environnement\, proposant des cuvées authentiques et vibrantes qui reflètent la richesse de leurs. \nDécouvrez les Vins Bio et Atypiques de notre Chai Urbain : la Micro Winerie \nProfessionnels du vin\, rejoignez-nous et plongez dans l’univers de la Micro Winerie : \n\nUn chai urbain unique\, au cœur de Bordeaux\, où tradition et innovation se rencontrent.\nDes cuvées bio et atypiques\, issues de micro-vinifications qui révèlent l’authenticité des cépages.\nUne démarche écoresponsable\, mêlant respect du terroir et proximité urbaine.\n\nVenez déguster\, échanger et découvrir une nouvelle façon de penser le vin. \nLa Micro Winerie – L’excellence du chai urbain\, un nouveau bordeaux
URL:https://www.microwinerie.fr/event/la-levee-de-la-loire/
LOCATION:Pac des expositions Angers\, Rte de Paris\, Angers\, 49000\, France
CATEGORIES:Salon
ATTACH;FMTTYPE=image/jpeg:https://www.microwinerie.fr/wp-content/uploads/2024/12/levee-de-la-loire-1024x1024-1.jpg
END:VEVENT
END:VCALENDAR